BEGIN:VCALENDAR
VERSION:2.0
CALSCALE:GREGORIAN
PRODID:UnionActive
BEGIN:VEVENT
UID:12672667@teamsters386.org
SUMMARY:General Membership Meeting
DESCRIPTION:Contact: 209-526-2755 \nLink for more information: http://teamsters386.org/index.cfm?zone=/unionactive/view_calendar.cfm&calendarID=12672667&thisdate=01/11/2024&useCalSection=main
LOCATION:1225 13th Street, Modesto 95354
URL:http://teamsters386.org/index.cfm?zone=/unionactive/view_calendar.cfm&calendarID=12672667&thisdate=01/11/2024&useCalSection=main
DTSTART:20240112T030000Z
DTEND:20240112T050000Z
DTSTAMP:20260419T075318
TRIGGER:-PT60M
END:VEVENT
END:VCALENDAR
