BEGIN:VCALENDAR
VERSION:2.0
CALSCALE:GREGORIAN
PRODID:UnionActive
BEGIN:VEVENT
UID:3737820@teamsters386.org
SUMMARY:Teamster Rally 
DESCRIPTION:Contact: Gaylord Phillips 526-2755 ext 12 \nLink for more information: http://teamsters386.org/index.cfm?zone=/unionactive/view_calendar.cfm&calendarID=3737820&thisdate=08/17/2010&useCalSection=main
LOCATION:CVS Distribution Center 2400 Pacific pkwy. 
Patterson CA 95363

URL:http://teamsters386.org/index.cfm?zone=/unionactive/view_calendar.cfm&calendarID=3737820&thisdate=08/17/2010&useCalSection=main
DTSTART:20100817T193000Z
DTEND:20100818T003000Z
DTSTAMP:20260419T092345
TRIGGER:-PT60M
END:VEVENT
END:VCALENDAR
