BEGIN:VCALENDAR
VERSION:2.0
CALSCALE:GREGORIAN
PRODID:UnionActive
BEGIN:VEVENT
UID:3747697@teamsters386.org
SUMMARY:Cookout with Dennis Cardoza
DESCRIPTION:Contact: Please RSVP to (209)578-3323 or Kori at kori@denniscardoza.com \nLink for more information: http://teamsters386.org/index.cfm?zone=/unionactive/view_calendar.cfm&calendarID=3747697&thisdate=08/25/2010&useCalSection=main
LOCATION:Teamsters Hall
1225 13th Street
Modesto, CA
URL:http://teamsters386.org/index.cfm?zone=/unionactive/view_calendar.cfm&calendarID=3747697&thisdate=08/25/2010&useCalSection=main
DTSTART:20100826T003000Z
DTEND:20100826T023000Z
DTSTAMP:20260419T122927
TRIGGER:-PT60M
END:VEVENT
END:VCALENDAR
