BEGIN:VCALENDAR
VERSION:2.0
CALSCALE:GREGORIAN
PRODID:UnionActive
BEGIN:VEVENT
UID:3791703@teamsters386.org
SUMMARY:Labor Day Holiday
DESCRIPTION:Contact:  \nLink for more information: http://teamsters386.org/index.cfm?zone=/unionactive/view_calendar.cfm&calendarID=3791703&thisdate=09/02/2012&useCalSection=main
LOCATION:
URL:http://teamsters386.org/index.cfm?zone=/unionactive/view_calendar.cfm&calendarID=3791703&thisdate=09/02/2012&useCalSection=main
DTSTART:20120902T150000Z
DTEND:20120902T160000Z
DTSTAMP:20260419T075058
TRIGGER:-PT60M
END:VEVENT
END:VCALENDAR
