BEGIN:VCALENDAR
VERSION:2.0
CALSCALE:GREGORIAN
PRODID:UnionActive
BEGIN:VEVENT
UID:7361113@teamsters386.org
SUMMARY:4th Annual Membership BBQ
DESCRIPTION:Contact: RSVP

carla@teamsters386.org
or
526-2755 ext. 10 \nLink for more information: http://teamsters386.org/index.cfm?zone=/unionactive/view_calendar.cfm&calendarID=7361113&thisdate=08/09/2014&useCalSection=main
LOCATION:Tuolumne River Regional Park
1200 Tioga Dr
Modesto, CA 95354


URL:http://teamsters386.org/index.cfm?zone=/unionactive/view_calendar.cfm&calendarID=7361113&thisdate=08/09/2014&useCalSection=main
DTSTART:20140809T180000Z
DTEND:20140809T220000Z
DTSTAMP:20260419T075639
TRIGGER:-PT60M
END:VEVENT
END:VCALENDAR
