BEGIN:VCALENDAR
VERSION:2.0
CALSCALE:GREGORIAN
PRODID:UnionActive
BEGIN:VEVENT
UID:3747520@teamsters386.org
SUMMARY:BBQ for CVS Employees Graceda Park
DESCRIPTION:Contact: RSVP with Carla at 209-526-2755 ext. 10 \nLink for more information: http://teamsters386.org/index.cfm?zone=/unionactive/view_calendar.cfm&calendarID=3747520&thisdate=08/15/2010&useCalSection=main
LOCATION:Graceda Park 
Needham Ave across from Union Hall
URL:http://teamsters386.org/index.cfm?zone=/unionactive/view_calendar.cfm&calendarID=3747520&thisdate=08/15/2010&useCalSection=main
DTSTART:20100815T200000Z
DTEND:20100816T000000Z
DTSTAMP:20240303T224231
TRIGGER:-PT60M
END:VEVENT
END:VCALENDAR
