BEGIN:VCALENDAR
VERSION:2.0
CALSCALE:GREGORIAN
PRODID:UnionActive
BEGIN:VEVENT
UID:3791702@teamsters386.org
SUMMARY:Labor Day Holiday
DESCRIPTION:Contact:  \nLink for more information: http://teamsters386.org/index.cfm?zone=/unionactive/view_calendar.cfm&calendarID=3791702&thisdate=09/04/2011&useCalSection=main
LOCATION:
URL:http://teamsters386.org/index.cfm?zone=/unionactive/view_calendar.cfm&calendarID=3791702&thisdate=09/04/2011&useCalSection=main
DTSTART:20110904T150000Z
DTEND:20110904T160000Z
DTSTAMP:20240303T224126
TRIGGER:-PT60M
END:VEVENT
END:VCALENDAR
