BEGIN:VCALENDAR
VERSION:2.0
CALSCALE:GREGORIAN
PRODID:UnionActive
BEGIN:VEVENT
UID:3791704@teamsters386.org
SUMMARY:Labor Day Holiday
DESCRIPTION:Contact:  \nLink for more information: http://teamsters386.org/index.cfm?zone=/unionactive/view_calendar.cfm&calendarID=3791704&thisdate=09/01/2013&useCalSection=main
LOCATION:
URL:http://teamsters386.org/index.cfm?zone=/unionactive/view_calendar.cfm&calendarID=3791704&thisdate=09/01/2013&useCalSection=main
DTSTART:20130901T150000Z
DTEND:20130901T160000Z
DTSTAMP:20240303T223952
TRIGGER:-PT60M
END:VEVENT
END:VCALENDAR
