BEGIN:VCALENDAR
VERSION:2.0
CALSCALE:GREGORIAN
PRODID:UnionActive
BEGIN:VEVENT
UID:3791705@teamsters386.org
SUMMARY:Labor Day Holiday
DESCRIPTION:Contact:  \nLink for more information: http://teamsters386.org/index.cfm?zone=/unionactive/view_calendar.cfm&calendarID=3791705&thisdate=09/06/2010&useCalSection=main
LOCATION:
URL:http://teamsters386.org/index.cfm?zone=/unionactive/view_calendar.cfm&calendarID=3791705&thisdate=09/06/2010&useCalSection=main
DTSTART:20100906T150000Z
DTEND:20100906T160000Z
DTSTAMP:20240303T224220
TRIGGER:-PT60M
END:VEVENT
END:VCALENDAR
