BEGIN:VCALENDAR
VERSION:2.0
CALSCALE:GREGORIAN
PRODID:UnionActive
BEGIN:VEVENT
UID:3902776@teamsters386.org
SUMMARY:Election Day
DESCRIPTION:Contact:  \nLink for more information: http://teamsters386.org/index.cfm?zone=/unionactive/view_calendar.cfm&calendarID=3902776&thisdate=11/02/2010&useCalSection=main
LOCATION:
URL:http://teamsters386.org/index.cfm?zone=/unionactive/view_calendar.cfm&calendarID=3902776&thisdate=11/02/2010&useCalSection=main
DTSTART:20101102T150000Z
DTEND:20101102T160000Z
DTSTAMP:20240303T224219
TRIGGER:-PT60M
END:VEVENT
END:VCALENDAR
