BEGIN:VCALENDAR
VERSION:2.0
CALSCALE:GREGORIAN
PRODID:UnionActive
BEGIN:VEVENT
UID:5593845@teamsters386.org
SUMMARY:2nd Annual Teamsters Local 386 BBQ
DESCRIPTION:Contact: Must Register to attend with either Shop Steward, Business Rep. or Carla at Teamsters Local 386 Office \nLink for more information: http://teamsters386.org/index.cfm?zone=/unionactive/view_calendar.cfm&calendarID=5593845&thisdate=08/18/2012&useCalSection=main
LOCATION:Tuolumne Regional River Park
Modesto, CA 

MEMBERS AND IMMEDIATE HOUSEHOLD FAMILY MEMBERS ONLY
URL:http://teamsters386.org/index.cfm?zone=/unionactive/view_calendar.cfm&calendarID=5593845&thisdate=08/18/2012&useCalSection=main
DTSTART:20120818T190000Z
DTEND:20120818T220000Z
DTSTAMP:20240303T224031
TRIGGER:-PT60M
END:VEVENT
END:VCALENDAR
