BEGIN:VCALENDAR
VERSION:2.0
CALSCALE:GREGORIAN
PRODID:UnionActive
BEGIN:VEVENT
UID:6425366@teamsters386.org
SUMMARY:Teamsters Local 386 3rd Annual Membership BBQ
DESCRIPTION:Contact: Contact Local 386 209-526-2755
Carla Bilyeu ext. 10 \nLink for more information: http://teamsters386.org/index.cfm?zone=/unionactive/view_calendar.cfm&calendarID=6425366&thisdate=05/01/2013&useCalSection=main
LOCATION:Tuolumne River Regional Park
URL:http://teamsters386.org/index.cfm?zone=/unionactive/view_calendar.cfm&calendarID=6425366&thisdate=05/01/2013&useCalSection=main
DTSTART:20130501T180000Z
DTEND:20130501T220000Z
DTSTAMP:20240303T223949
TRIGGER:-PT60M
END:VEVENT
END:VCALENDAR
