BEGIN:VCALENDAR
VERSION:2.0
CALSCALE:GREGORIAN
PRODID:UnionActive
BEGIN:VEVENT
UID:9011609@teamsters386.org
SUMMARY:Shop Steward Training Seminar
DESCRIPTION:Contact: 209.526.2755 \nLink for more information: http://teamsters386.org/index.cfm?zone=/unionactive/view_calendar.cfm&calendarID=9011609&thisdate=06/11/2016&useCalSection=main
LOCATION:Union Hall
URL:http://teamsters386.org/index.cfm?zone=/unionactive/view_calendar.cfm&calendarID=9011609&thisdate=06/11/2016&useCalSection=main
DTSTART:20160611T160000Z
DTEND:20160611T190000Z
DTSTAMP:20240303T223730
TRIGGER:-PT60M
END:VEVENT
END:VCALENDAR
